Workbook

Sheet Title
A19: CCW 2025-26 Company Performance Data Appendices

Sheet General Caveats
B8: CCW Data - General Caveats
B10: 1. There may be slight variation with normalised data compared with what has been submitted to Ofwat as CCW has used year end connections data, rather than an average count for flooding and blockage data.
B12: 2. For WaterSure, Social Tariffs and Priority Services Register, some customers who are receiving help from both a water company and a water and sewerage company may have been counted twice. There may be some variation in the financial elements of this data as Ofwat ask each company to report the average value of the bill reduction they provided, whereas CCW ask companies for the total value of the support they provided through the various schemes over the year and divide that by the number of customers on the relevant schemes at the end of the year. As the numbers on these schemes grow over the course of the year the number at the end of the year will be higher - which might have the effect of lowering the average value of support figure compared to Ofwat's approach.
B14: 3. For WaterSure, Social Tariffs, Priority Services Register, Financial hardship funds and Debt support schemes, the data published is as provided to CCW based on our definitions and therefore it may differ to other regulator publications.
B16: 4. There is a variation in the percentage of Households on the Priority Services Register, as reported to CCW and Ofwat. CCW is based on the Total household connections as reported to CCW and aligned with APRs and RAG 4.14 4R.22 - Total connected properties at year end. Ofwat's calculation uses - Total number of residential properties billed for water services within the supply area at the end of the reporting year and excludes unbilled and void properties, this is the same as RAG 4R.19 total column. We do this as CCW's connected property definition includes voids and unbilled properties where Ofwat's data excludes them, hence the difference.
B18: 5. Data has been updated retrospectively where companies have resubmitted this information following the Ofwat's query process. CCW has published the latest available data as of 30/10/26 and 2025-26 data was validated against company annual performance reports. Where Ofwat's query process has not been completed, there maybe instances where data differs from other regulatory reports as these changes have not yet been communicated to CCW.

Sheet WaterSure
B2: Appendix 1a - Watersure (Connected properties)
B4: Water and Sewerage Companies | C4: 2021-22 | D4: 2022-23 | E4: 2023-24 | F4: 2024-25 | G4: 2025-26
B5: Anglian | C5: 40239 | D5: 38946 | E5: 36812 | F5: 42780 | G5: 45035
B6: Dwr Cymru | C6: 18496 | D6: 19705 | E6: 25332 | F6: 30419 | G6: 27836
B7: Hafren Dyfrdwy | C7: 902 | D7: 1017 | E7: 959 | F7: 971 | G7: 956
B8: Northumbrian | C8: 4600 | D8: 7344 | E8: 8331 | F8: 9203 | G8: 10390
B9: Severn Trent | C9: 16710 | D9: 17176 | E9: 17530 | F9: 21341 | G9: 20887
B10: South West | C10: 17140 | D10: 19062 | E10: 20531 | F10: 20471 | G10: 21090
B11: Southern | C11: 15114 | D11: 16658 | E11: 16692 | F11: 17742 | G11: 18480
B12: Thames | C12: 19014 | D12: 22629 | E12: 24869 | F12: 28843 | G12: 31004
B13: United Utilities | C13: 27284 | D13: 28964 | E13: 28932 | F13: 27804 | G13: 28068
B14: Wessex | C14: 8528 | D14: 8815 | E14: 9496 | F14: 11360 | G14: 15564
B15: Yorkshire | C15: 12355 | D15: 12680 | E15: 12682 | F15: 17425 | G15: 17392
B16: Water only companies
B17: Affinity | C17: 2800 | D17: 2781 | E17: 2823 | F17: 3146 | G17: 3589
B18: Bristol | C18: 3197 | D18: 3346 | E18: 3488 | F18: 4217 | G18: 5972
B19: Cambridge | C19: 380 | D19: 315 | E19: 334 | F19: 330 | G19: 331
B20: Essex and Suffolk | C20: 6200 | D20: 10977 | E20: 12678 | F20: 14990 | G20: 16274
B21: Portsmouth | C21: 248 | D21: 234 | E21: 174 | F21: 232 | G21: 259
B22: SES Water | C22: 359 | D22: 344 | E22: 564 | F22: 725 | G22: 859
B23: South East | C23: 6208 | D23: 6638 | E23: 7060 | F23: 7381 | G23: 7897
B24: South Staffs | C24: 1509 | D24: 1316 | E24: 1403 | F24: 1499 | G24: 1523
B25: INDUSTRY | C25: =SUM(C5:C24) -> 201283 | D25: =SUM(D5:D24) -> 218947 | E25: =SUM(E5:E24) -> 230690 | F25: =SUM(F5:F24) -> 260879 | G25: =SUM(G5:G24) -> 273406
B27: Some customers who are receiving help from both a water company and a water and sewerage company may have been counted twice. For Dwr Cymru the data includes customers on Watersure Wales, previously Welsh Water Assist.

Sheet WaterSure per 10,000 metered
B2: Appendix 1b - Watersure per 10,000 metered connections
B4: Water and Sewerage Companies | C4: 2021-22 | D4: 2022-23 | E4: 2023-24 | F4: 2024-25 | G4: 2025-26
B5: Anglian | C5: 166.75666 | D5: 157.92022 | E5: 146.71098 | F5: 167.75148 | G5: 172.84829
B6: Dwr Cymru | C6: 262.29471 | D6: 271.20095 | E6: 336.16612 | F6: 391.36146 | G6: 342.40349
B7: Hafren Dyfrdwy | C7: 164.45449 | D7: 185.42153 | E7: 167.31219 | F7: 162.90033 | G7: 153.06041
B8: Northumbrian | C8: 87.458457 | D8: 134.33696 | E8: 148.40004 | F8: 163.02923 | G8: 171.86508
B9: Severn Trent | C9: 82.767024 | D9: 81.641189 | E9: 80.125019 | F9: 95.288784 | G9: 82.980546
B10: South West | C10: 208.08244 | D10: 227.95355 | E10: 242.31173 | F10: 238.53803 | G10: 241.99545
B11: Southern | C11: 93.038889 | D11: 103.80511 | E11: 100.55531 | F11: 105.88534 | G11: 111.21931
B12: Thames | C12: 58.884976 | D12: 66.351208 | E12: 68.632083 | F12: 73.27285 | G12: 77.682591
B13: United Utilities | C13: 179.14748 | D13: 182.57805 | E13: 177.18832 | F13: 164.44219 | G13: 160.18387
B14: Wessex | C14: 101.16684 | D14: 101.00408 | E14: 105.58983 | F14: 123.51182 | G14: 164.9599
B15: Yorkshire | C15: 93.211586 | D15: 92.663912 | E15: 90.353248 | F15: 121.88997 | G15: 117.046
B16: Water only companies
B17: Affinity | C17: 30.268732 | D17: 28.481654 | E17: 27.3772 | F17: 28.997503 | G17: 31.979257
B18: Bristol | C18: 100.3314 | D18: 99.924444 | E18: 99.656858 | F18: 117.18967 | G18: 162.01713
B19: Cambridge | C19: 37.148192 | D19: 30.155661 | E19: 31.741808 | F19: 30.942915 | G19: 30.124868
B20: Essex and Suffolk | C20: 126.17218 | D20: 216.17928 | E20: 243.93764 | F20: 282.81205 | G20: 295.53036
B21: Portsmouth | C21: 23.343593 | D21: 20.916014 | E21: 15.219236 | F21: 19.143652 | G21: 17.064959
B22: SES Water | C22: 18.91106 | D22: 16.685503 | E22: 25.645106 | F22: 31.525166 | G22: 39.055751
B23: South East | C23: 76.736997 | D23: 81.189739 | E23: 85.401745 | F23: 88.384625 | G23: 93.932174
B24: South Staffs | C24: 64.935624 | D24: 54.920061 | E24: 57.519566 | F24: 59.767548 | G24: 54.967265
B25: INDUSTRY | C25: 110.22322 | D25: 115.99314 | E25: 118.01952 | F25: 129.02042 | G25: 130.50834
B27: Some customers who are receiving help from both a water company and a water and sewerage company may have been counted twice. For Dwr Cymru the data includes customers on Watersure Wales, previously Welsh Water Assist.

Sheet WaterSure Financial
B2: Appendix 1c - Watersure (Total financial assistance provided (£))
B4: Water and Sewerage Companies | C4: 2021-22 | D4: 2022-23 | E4: 2023-24 | F4: 2024-25 | G4: 2025-26
B5: Anglian | C5: 10152556 | D5: 9823529 | E5: 12214487 | F5: 13979963 | G5: 16577441
B6: Dwr Cymru | C6: 2772000 | D6: 2109000 | E6: 3520934 | F6: 10348523 | G6: 15797015
B7: Hafren Dyfrdwy | C7: 62906 | D7: 49606 | E7: 57320 | F7: 107000 | G7: 123000
B8: Northumbrian | C8: 684480 | D8: 1146194 | E8: 1633841 | F8: 2413272 | G8: 2712351
B9: Severn Trent | C9: 3245352.7 | D9: 2923680 | E9: 3703203 | F9: 6636000 | G9: 8500000
B10: South West | C10: 5892922 | D10: 7647922.6 | E10: 9088883.5 | F10: 9341745.4 | G10: 11732513
B11: Southern | C11: 8805779.6 | D11: 8194914.5 | E11: 6452435.2 | F11: 7128245 | G11: 12791528
B12: Thames | C12: 4468455 | D12: 5311158.8 | E12: 6482477.3 | F12: 7944032.7 | G12: 13876466
B13: United Utilities | C13: 9869986 | D13: 9457186.8 | E13: 10622606 | F13: 11761028 | G13: 15219345
B14: Wessex | C14: 2174597 | D14: 2635253 | E14: 2405241 | F14: 3095118 | G14: 5152872.7
B15: Yorkshire | C15: 6597570 | D15: 6339239 | E15: 5170039.9 | F15: 5988569 | G15: 6907383.2
B16: Water only companies
B17: Affinity | C17: 467423 | D17: 488145 | E17: 570447 | F17: 672793.65 | G17: 691337.05
B18: Bristol | C18: 446500 | D18: 434097 | E18: 502871 | F18: 538223 | G18: 807261
B19: Cambridge | C19: 37339.19 | D19: 25035.83 | E19: 32596.11 | F19: 44888.696 | G19: 59665.8
B20: Essex and Suffolk | C20: 986468 | D20: 1551575 | E20: 2210161 | F20: 3058397 | G20: 3665489
B21: Portsmouth | C21: 17606.2 | D21: 16224.43 | E21: 24256.98 | F21: 17281.63 | G21: 21381
B22: SES Water | C22: 130788 | D22: 149981 | E22: N/A | F22: N/A | G22: 82225
B23: South East | C23: 1001294.2 | D23: 954888 | E23: 1132625 | F23: 1307401 | G23: 1783195.5
B24: South Staffs | C24: 226571.22 | D24: 174167.67 | E24: 247382.98 | F24: 292563.99 | G24: 460160.94
B25: INDUSTRY | C25: =SUM(C5:C24) -> 58040594 | D25: =SUM(D5:D24) -> 59431798 | E25: =SUM(E5:E24) -> 66071808 | F25: =SUM(F5:F24) -> 84675045 | G25: =SUM(G5:G24) -> 1.1696063e+08
B27: Financial support data is based on company estimates.
B28: SES water were not able to provide this data for 2023-24 and 2024-25
B29: For Dwr Cymru the data also includes customers on Watersure Wales, previously Welsh Water Assist.

Sheet WaterSure avg bill reduction
B2: Appendix 1d - Watersure (Average bill reduction (£))
B4: Water and Sewerage Companies | C4: 2021-22 | D4: 2022-23 | E4: 2023-24 | F4: 2024-25 | G4: 2025-26
B5: Anglian | C5: 252.30637 | D5: 252.23461 | E5: 331.80721 | F5: 326.78735 | G5: 368.10128
B6: Dwr Cymru | C6: 149.87024 | D6: 107.02867 | E6: 138.99155 | F6: 340.19931 | G6: 567.50307
B7: Hafren Dyfrdwy | C7: 69.740576 | D7: 48.776794 | E7: 59.770594 | F7: 110.19567 | G7: 128.66109
B8: Northumbrian | C8: 148.8 | D8: 156.07217 | E8: 196.11583 | F8: 262.22667 | G8: 261.05399
B9: Severn Trent | C9: 194.2162 | D9: 170.21891 | E9: 211.24946 | F9: 310.95075 | G9: 406.95169
B10: South West | C10: 343.81109 | D10: 401.21302 | E10: 442.69073 | F10: 456.34045 | G10: 556.30693
B11: Southern | C11: 582.62403 | D11: 491.95069 | E11: 386.55854 | F11: 401.77235 | G11: 692.18226
B12: Thames | C12: 235.00868 | D12: 234.70585 | E12: 260.66498 | F12: 275.42325 | G12: 447.57019
B13: United Utilities | C13: 361.74996 | D13: 326.51522 | E13: 367.15767 | F13: 422.9977 | G13: 542.23118
B14: Wessex | C14: 254.99496 | D14: 298.95099 | E14: 253.28991 | F14: 272.45757 | G14: 331.07637
B15: Yorkshire | C15: 534 | D15: 499.93998 | E15: 407.66755 | F15: 343.67684 | G15: 397.15865
B16: Water only companies
B17: Affinity | C17: 166.93679 | D17: 175.52859 | E17: 202.0712 | F17: 213.85685 | G17: 192.62665
B18: Bristol | C18: 139.66218 | D18: 129.7361 | E18: 144.17173 | F18: 127.63173 | G18: 135.17431
B19: Cambridge | C19: 98.261026 | D19: 79.478825 | E19: 97.593144 | F19: 136.02635 | G19: 180.25921
B20: Essex and Suffolk | C20: 159.10774 | D20: 141.34782 | E20: 174.33041 | F20: 204.02915 | G20: 225.2359
B21: Portsmouth | C21: 70.992742 | D21: 69.335171 | E21: 139.40793 | F21: 74.489784 | G21: 82.552124
B22: SES Water | C22: 364.31198 | D22: 435.99128 | E22: N/A | F22: N/A | G22: 95.721769
B23: South East | C23: 161.29095 | D23: 143.85176 | E23: 160.42847 | F23: 177.1306 | G23: 225.8067
B24: South Staffs | C24: 150.1466 | D24: 132.34625 | E24: 176.32429 | F24: 195.17278 | G24: 302.14113
B25: INDUSTRY | C25: 288.35319 | D25: 271.44376 | E25: 286.4095 | F25: 324.57593 | G25: 427.79102
B27: Financial support data is based on company estimates
B28: SES water were not able to provide this data for 2023-24 and 2024-25
B29: For Dwr Cymru the data also includes customers on Watersure Wales, previously Welsh Water Assist.

Sheet Social Tariffs
B2: Appendix 2a - Social Tariffs (Connected properties)
B4: Water and Sewerage Companies | C4: 2021-22 | D4: 2022-23 | E4: 2023-24 | F4: 2024-25 | G4: 2025-26
B5: Anglian | C5: 40138 | D5: 112237 | E5: 167310 | F5: 215655 | G5: 246377
B6: Dwr Cymru | C6: 95214 | D6: 95137 | E6: 96105 | F6: 98517 | G6: 98262
B7: Hafren Dyfrdwy | C7: 1344 | D7: 2558 | E7: 3504 | F7: 2366 | G7: 5847
B8: Northumbrian | C8: 44883 | D8: 65565 | E8: 83706 | F8: 98262 | G8: 114537
B9: Severn Trent | C9: 95403 | D9: 132296 | E9: 160167 | F9: 259726 | G9: 311826
B10: South West | C10: 15108 | D10: 24177 | E10: 41766 | F10: 49899 | G10: 58576
B11: Southern | C11: 114989 | D11: 111250 | E11: 127494 | F11: 160514 | G11: 177896
B12: Thames | C12: 267033 | D12: 306506 | E12: 358357 | F12: 408670 | G12: 562967
B13: United Utilities | C13: 152229 | D13: 153873 | E13: 152018 | F13: 150706 | G13: 152059
B14: Wessex | C14: 39256 | D14: 42294 | E14: 50076 | F14: 59680 | G14: 64744
B15: Yorkshire | C15: 35236 | D15: 45019 | E15: 67975 | F15: 107664 | G15: 147058
B16: Water only companies
B17: Affinity | C17: 90953 | D17: 92874 | E17: 109425 | F17: 127400 | G17: 143617
B18: Bristol | C18: 17983 | D18: 19377 | E18: 23256 | F18: 28370 | G18: 30332
B19: Cambridge | C19: 2775 | D19: 3592 | E19: 4196 | F19: 5190 | G19: 5238
B20: Essex and Suffolk | C20: 12149 | D20: 21379 | E20: 27932 | F20: 35320 | G20: 45995
B21: Portsmouth | C21: 10254 | D21: 11680 | E21: 13500 | F21: 15027 | G21: 17443
B22: SES Water | C22: 19994 | D22: 19526 | E22: 22229 | F22: 25379 | G22: 25323
B23: South East | C23: 47773 | D23: 53637 | E23: 59552 | F23: 65016 | G23: 78664
B24: South Staffs | C24: 45596 | D24: 50862 | E24: 50871 | F24: 56407 | G24: 61150
B25: INDUSTRY | C25: =SUM(C5:C24) -> 1148310 | D25: =SUM(D5:D24) -> 1363839 | E25: =SUM(E5:E24) -> 1619439 | F25: =SUM(F5:F24) -> 1969768 | G25: =SUM(G5:G24) -> 2347911
B27: Some customers who are receiving help from both a water company and a water and sewerage company may have been counted twice.

Sheet Social tariff per 10,000 conn
B2: Appendix 2b - Social Tariffs per 10,000 connections
B4: Water and Sewerage Companies | C4: 2021-22 | D4: 2022-23 | E4: 2023-24 | F4: 2024-25 | G4: 2025-26
B5: Anglian | C5: 132.87191 | D5: 367.63976 | E5: 542.81123 | F5: 692.76063 | G5: 787.31776
B6: Dwr Cymru | C6: 641.23347 | D6: 637.06334 | E6: 641.19928 | F6: 654.96052 | G6: 647.75775
B7: Hafren Dyfrdwy | C7: 135.46202 | D7: 255.41943 | E7: 348.01206 | F7: 233.80833 | G7: 573.97809
B8: Northumbrian | C8: 359.32041 | D8: 520.84823 | E8: 660.95512 | F8: 771.46955 | G8: 886.30418
B9: Severn Trent | C9: 213.39525 | D9: 295.16739 | E9: 354.44509 | F9: 592.16501 | G9: 705.31364
B10: South West | C10: 150.1267 | D10: 238.17546 | E10: 408.42989 | F10: 484.63323 | G10: 566.37798
B11: Southern | C11: 564.73959 | D11: 543.10947 | E11: 613.66856 | F11: 768.68668 | G11: 847.22749
B12: Thames | C12: 454.19546 | D12: 516.66895 | E12: 599.28565 | F12: 680.42366 | G12: 907.04456
B13: United Utilities | C13: 457.44925 | D13: 460.0904 | E13: 450.84168 | F13: 444.44785 | G13: 444.05708
B14: Wessex | C14: 311.0835 | D14: 332.52562 | E14: 391.32331 | F14: 463.98986 | G14: 501.09671
B15: Yorkshire | C15: 149.96155 | D15: 190.08039 | E15: 284.55555 | F15: 448.66711 | G15: 608.55028
B16: Water only companies
B17: Affinity | C17: 613.5449 | D17: 620.3403 | E17: 725.19716 | F17: 837.98589 | G17: 940.73914
B18: Bristol | C18: 345.78503 | D18: 369.46855 | E18: 440.55551 | F18: 535.15176 | G18: 570.82098
B19: Cambridge | C19: 198.20296 | D19: 253.83724 | E19: 293.91575 | F19: 360.91794 | G19: 360.57494
B20: Essex and Suffolk | C20: 155.00444 | D20: 270.42582 | E20: 351.31498 | F20: 441.93586 | G20: 569.87276
B21: Portsmouth | C21: 332.26295 | D21: 377.96539 | E21: 434.46778 | F21: 482.15541 | G21: 555.62988
B22: SES Water | C22: 698.81969 | D22: 678.14152 | E22: 769.02586 | F22: 853.8563 | G22: 847.60059
B23: South East | C23: 480.67558 | D23: 534.41404 | E23: 586.80073 | F23: 635.8844 | G23: 767.40724
B24: South Staffs | C24: 803.51746 | D24: 890.43806 | E24: 885.25805 | F24: 977.41312 | G24: 1055.7028
B25: INDUSTRY | C25: 367.24614 | D25: 433.05606 | E25: 510.04028 | F25: 619.80184 | G25: 730.01771
B27: Some customers who are receiving help from both a water company and a water and sewerage company may have been counted twice.

Sheet Social tariffs Financial
B2: Appendix 2c - Social Tariffs (Total financial assistance provided (£))
B4: Water and Sewerage Companies | C4: 2021-22 | D4: 2022-23 | E4: 2023-24 | F4: 2024-25 | G4: 2025-26
B5: Anglian | C5: 7848019 | D5: 18953451 | E5: 30530307 | F5: 43841305 | G5: 63968409
B6: Dwr Cymru | C6: 26149883 | D6: 26887673 | E6: 27599585 | F6: 30216758 | G6: 46530246
B7: Hafren Dyfrdwy | C7: 174820.59 | D7: 226376 | E7: 265260 | F7: 401000 | G7: 1367000
B8: Northumbrian | C8: 4994997 | D8: 7974304 | E8: 11440285 | F8: 15716100 | G8: 18231492
B9: Severn Trent | C9: 19335813 | D9: 24832964 | E9: 26322952 | F9: 81484000 | G9: 118900000
B10: South West | C10: 2076918 | D10: 2358049.6 | E10: 4805566.8 | F10: 8068530.9 | G10: 10256813
B11: Southern | C11: 7094866.4 | D11: 8073197.6 | E11: 13987615 | F11: 19305915 | G11: 29379699
B12: Thames | C12: 41307333 | D12: 50270928 | E12: 62948865 | F12: 78386317 | G12: 1.5223127e+08
B13: United Utilities | C13: 30078117 | D13: 30045801 | E13: 34269977 | F13: 39831508 | G13: 59268336
B14: Wessex | C14: 5375038 | D14: 6422813 | E14: 7208715 | F14: 9882861 | G14: 14588711
B15: Yorkshire | C15: 7465451.3 | D15: 9327036 | E15: 15484803 | F15: 18725540 | G15: 47395144
B16: Water only companies
B17: Affinity | C17: 7009067 | D17: 6757971 | E17: 8450601 | F17: 10299468 | G17: 15901956
B18: Bristol | C18: 1578405 | D18: 1859012 | E18: 2294045 | F18: 2777278 | G18: 3509551
B19: Cambridge | C19: 147757 | D19: 199820.96 | E19: 241843.39 | F19: 332271.53 | G19: 397527.77
B20: Essex and Suffolk | C20: 1049404 | D20: 1603813 | E20: 2571307.1 | F20: 3498303 | G20: 7725811
B21: Portsmouth | C21: 241821.35 | D21: 281622.73 | E21: 338353.48 | F21: 390443.94 | G21: 798017.25
B22: SES Water | C22: 1007513.2 | D22: 1485171 | E22: 1907670.6 | F22: 1546000 | G22: 2530586.1
B23: South East | C23: 4205427.3 | D23: 3733300 | E23: 4570383.5 | F23: 5166768.9 | G23: 8797575.6
B24: South Staffs | C24: 2718948.3 | D24: 2217466.4 | E24: 3590094.3 | F24: 3831166.6 | G24: 4259658.1
B25: INDUSTRY | C25: =SUM(C5:C24) -> 1.698596e+08 | D25: =SUM(D5:D24) -> 2.0351077e+08 | E25: =SUM(E5:E24) -> 2.5882823e+08 | F25: =SUM(F5:F24) -> 3.7370153e+08 | G25: =SUM(G5:G24) -> 6.0603781e+08
B27: Financial support data is based on company estimates.

Sheet Social Tariff avg bill reductio
B2: Appendix 2d - Social Tariffs (Average bill reduction (£))
B4: Water and Sewerage Companies | C4: 2021-22 | D4: 2022-23 | E4: 2023-24 | F4: 2024-25 | G4: 2025-26
B5: Anglian | C5: 195.52591 | D5: 168.8699 | E5: 182.47748 | F5: 203.29371 | G5: 259.63629
B6: Dwr Cymru | C6: 274.64326 | D6: 282.62057 | E6: 287.18157 | F6: 306.71618 | G6: 473.53245
B7: Hafren Dyfrdwy | C7: 130.07484 | D7: 88.497263 | E7: 75.702055 | F7: 169.48436 | G7: 233.79511
B8: Northumbrian | C8: 111.28929 | D8: 121.6244 | E8: 136.67222 | F8: 159.94077 | G8: 159.17557
B9: Severn Trent | C9: 202.6751 | D9: 187.7076 | E9: 164.34691 | F9: 313.73062 | G9: 381.30239
B10: South West | C10: 137.47141 | D10: 97.532761 | E10: 115.0593 | F10: 161.69725 | G10: 175.10265
B11: Southern | C11: 61.700392 | D11: 72.568069 | E11: 109.71195 | F11: 120.27558 | G11: 165.15098
B12: Thames | C12: 154.68999 | D12: 164.01287 | E12: 175.65965 | F12: 191.80835 | G12: 270.40888
B13: United Utilities | C13: 197.58467 | D13: 195.26363 | E13: 225.43368 | F13: 264.29942 | G13: 389.77197
B14: Wessex | C14: 136.92271 | D14: 151.86109 | E14: 143.95549 | F14: 165.59754 | G14: 225.32915
B15: Yorkshire | C15: 211.87 | D15: 207.17999 | E15: 227.80144 | F15: 173.92573 | G15: 322.28878
B16: Water only companies
B17: Affinity | C17: 77.062516 | D17: 72.76494 | E17: 77.227334 | F17: 80.843548 | G17: 110.72475
B18: Bristol | C18: 87.772063 | D18: 95.939103 | E18: 98.643146 | F18: 97.894889 | G18: 115.70457
B19: Cambridge | C19: 53.245766 | D19: 55.629443 | E19: 57.636652 | F19: 64.021489 | G19: 75.893045
B20: Essex and Suffolk | C20: 86.377809 | D20: 75.018149 | E20: 92.055962 | F20: 99.045951 | G20: 167.97067
B21: Portsmouth | C21: 23.583124 | D21: 24.111535 | E21: 25.063221 | F21: 25.982827 | G21: 45.75
B22: SES Water | C22: 50.390775 | D22: 76.0612 | E22: 85.819003 | F22: 60.916506 | G22: 99.932318
B23: South East | C23: 88.029375 | D23: 69.603073 | E23: 76.746096 | F23: 79.469191 | G23: 111.83738
B24: South Staffs | C24: 59.631291 | D24: 43.597703 | E24: 70.572514 | F24: 67.920056 | G24: 69.659167
B25: INDUSTRY | C25: 147.92138 | D25: 149.21906 | E25: 159.82586 | F25: 189.71855 | G25: 258.11788
B27: Financial support data is estimated

Sheet Water Direct
B2: Appendix 3a - Water Direct (Connected properties)
B4: Water and Sewerage Companies | C4: 2021-22 | D4: 2022-23 | E4: 2023-24 | F4: 2024-25 | G4: 2025-26
B5: Anglian | C5: 6030 | D5: 4236 | E5: 3808 | F5: 1295 | G5: 549
B6: Dŵr Cymru Welsh Water | C6: 15414 | D6: 15883 | E6: 13960 | F6: 11725 | G6: 7151
B7: Hafren Dyfrdwy | C7: 556 | D7: 454 | E7: 411 | F7: 354 | G7: 217
B8: Northumbrian | C8: 13910 | D8: 12880 | E8: 14161 | F8: 14449 | G8: 18735
B9: Severn Trent | C9: 20478 | D9: 15337 | E9: 11844 | F9: 12126 | G9: 8299
B10: South West | C10: 4391 | D10: 4853 | E10: 4852 | F10: 2575 | G10: 3722
B11: Southern | C11: 6235 | D11: 4850 | E11: 4157 | F11: 3052 | G11: 2077
B12: Thames | C12: 7905 | D12: 6659 | E12: 4274 | F12: 2850 | G12: 1180
B13: United Utilities | C13: 30432 | D13: 39283 | E13: 45510 | F13: 38516 | G13: 26350
B14: Wessex | C14: 7509 | D14: 7533 | E14: 6792 | F14: 6398 | G14: 6712
B15: Yorkshire | C15: 23260 | D15: 22217 | E15: 17627 | F15: 15402 | G15: 8617
B16: Water only companies
B17: Affinity | C17: 1698 | D17: 1838 | E17: 2190 | F17: 2469 | G17: 2734
B18: Bristol | C18: 7053 | D18: 3709 | E18: 3563 | F18: 2969 | G18: 1827
B19: Cambridge | C19: 190 | D19: 162 | E19: 87 | F19: 66 | G19: 39
B20: Essex and Suffolk | C20: 5295 | D20: 4575 | E20: 4746 | F20: 5186 | G20: 8185
B21: Portsmouth | C21: 591 | D21: 798 | E21: 646 | F21: 538 | G21: 243
B22: SES Water | C22: 362 | D22: 281 | E22: 136 | F22: 0 | G22: 1280
B23: South East | C23: 5662 | D23: 4704 | E23: 5054 | F23: 4711 | G23: 6669
B24: South Staffs | C24: 1594 | D24: 1386 | E24: 658 | F24: 510 | G24: 325
B25: INDUSTRY | C25: =SUM(C5:C24) -> 158565 | D25: =SUM(D5:D24) -> 151638 | E25: =SUM(E5:E24) -> 144476 | F25: =SUM(F5:F24) -> 125191 | G25: =SUM(G5:G24) -> 104911

Sheet Water Direct per 10,000
B2: Appendix 3b - Water Direct per 10,000 connections
B4: Water and Sewerage Companies | C4: 2021-22 | D4: 2022-23 | E4: 2023-24 | F4: 2024-25 | G4: 2025-26
B5: Anglian | C5: 19.961573 | D5: 13.8753 | E5: 12.354463 | F5: 4.160001 | G5: 1.7543742
B6: Dŵr Cymru Welsh Water | C6: 103.80798 | D6: 106.35691 | E6: 93.139191 | F6: 77.950121 | G6: 47.140458
B7: Hafren Dyfrdwy | C7: 56.039348 | D7: 45.332455 | E7: 40.819907 | F7: 34.982311 | G7: 21.302077
B8: Northumbrian | C8: 111.35947 | D8: 102.31869 | E8: 111.81738 | F8: 113.44124 | G8: 144.97419
B9: Severn Trent | C9: 45.804723 | D9: 34.218587 | E9: 26.21044 | F9: 27.6468 | G9: 18.771359
B10: South West | C10: 43.632931 | D10: 47.808475 | E10: 47.447729 | F10: 25.00913 | G10: 35.98844
B11: Southern | C11: 30.621636 | D11: 23.677132 | E11: 20.008943 | F11: 14.615745 | G11: 9.8916867
B12: Thames | C12: 13.445586 | D12: 11.224898 | E12: 7.1474727 | F12: 4.745167 | G12: 1.9011995
B13: United Utilities | C13: 91.44838 | D13: 117.45876 | E13: 134.96958 | F13: 113.58774 | G13: 76.949764
B14: Wessex | C14: 59.504942 | D14: 59.226261 | E14: 53.076681 | F14: 49.742077 | G14: 51.948615
B15: Yorkshire | C15: 98.992667 | D15: 93.805192 | E15: 73.789786 | F15: 64.184601 | G15: 35.658568
B16: Water only companies
B17: Affinity | C17: 11.454259 | D17: 12.276692 | E17: 14.513884 | F17: 16.240088 | G17: 17.90861
B18: Bristol | C18: 135.61818 | D18: 70.720899 | E18: 67.496529 | F18: 56.005131 | G18: 34.382498
B19: Cambridge | C19: 13.570653 | D19: 11.448116 | E19: 6.0940586 | F19: 4.5897079 | G19: 2.6846931
B20: Essex and Suffolk | C20: 67.556878 | D20: 57.869785 | E20: 59.692857 | F20: 64.888997 | G20: 101.41121
B21: Portsmouth | C21: 19.150322 | D21: 25.823321 | E21: 20.790088 | F21: 17.262235 | G21: 7.7405298
B22: SES Water | C22: 12.652432 | D22: 9.7591809 | E22: 4.7050032 | F22: 0 | G22: 42.843611
B23: South East | C23: 56.969107 | D23: 46.868461 | E23: 49.800021 | F23: 46.075603 | G23: 65.059479
B24: South Staffs | C24: 28.090333 | D24: 24.264621 | E24: 11.450528 | F24: 8.8372133 | G24: 5.6108488
B25: INDUSTRY | C25: 50.711379 | D25: 48.149199 | E25: 45.502535 | F25: 39.39226 | G25: 32.619162

Sheet Financial Hardship Funds
B2: Appendix 2a - Financial Hardship Funds (Connected properties)
B4: Water and Sewerage Companies | C4: 2025-26
B5: Anglian | C5: 474
B6: Dwr Cymru | C6: 40
B7: Hafren Dyfrdwy | C7: 0
B8: Northumbrian | C8: 186
B9: Severn Trent | C9: 0
B10: South West | C10: 469
B11: Southern | C11: 1243
B12: Thames | C12: 3105
B13: United Utilities | C13: 3585
B14: Wessex | C14: 0
B15: Yorkshire | C15: 1958
B16: Water only companies
B17: Affinity | C17: 59502
B18: Bristol | C18: 0
B19: Cambridge | C19: 91
B20: Essex and Suffolk | C20: 20
B21: Portsmouth | C21: 0
B22: SES Water | C22: 0
B23: South East | C23: 83
B24: South Staffs | C24: 612
B25: INDUSTRY | C25: =SUM(C5:C24) -> 71368
B27: Some customers who are receiving help from both a water company and a water and sewerage company may have been counted twice.

Sheet Financial Hardship per 10,000
B2: Appendix 2b - Financial Hardship Funds per 10,000 connections
B4: Water and Sewerage Companies | C4: 2025-26
B5: Anglian | C5: 1.5147056
B6: Dwr Cymru | C6: 0.26368596
B7: Hafren Dyfrdwy | C7: 0
B8: Northumbrian | C8: 1.4392954
B9: Severn Trent | C9: 0
B10: South West | C10: 4.5348141
B11: Southern | C11: 5.9197721
B12: Thames | C12: 5.0027326
B13: United Utilities | C13: 10.469256
B14: Wessex | C14: 0
B15: Yorkshire | C15: 8.1025272
B16: Water only companies
B17: Affinity | C17: 389.7579
B18: Bristol | C18: 0
B19: Cambridge | C19: 6.2642839
B20: Essex and Suffolk | C20: 0.2477977
B21: Portsmouth | C21: 0
B22: SES Water | C22: 0
B23: South East | C23: 0.80970712
B24: South Staffs | C24: 10.56566
B25: INDUSTRY | C25: 22.189897
B27: Some customers who are receiving help from both a water company and a water and sewerage company may have been counted twice.

Sheet Financial Hardship Financials
B2: Appendix 2c - Financial Hardship Funds (Total financial assistance provided (£))
B4: Water and Sewerage Companies | C4: 2025-26
B5: Anglian | C5: 588817
B6: Dwr Cymru | C6: 22127
B7: Hafren Dyfrdwy | C7: 0
B8: Northumbrian | C8: 43371
B9: Severn Trent | C9: 0
B10: South West | C10: 220207
B11: Southern | C11: 850855.86
B12: Thames | C12: 1593663
B13: United Utilities | C13: 2816847.7
B14: Wessex | C14: 0
B15: Yorkshire | C15: 1028560
B16: Water only companies
B17: Affinity | C17: 2975100
B18: Bristol | C18: 0
B19: Cambridge | C19: 68246.19
B20: Essex and Suffolk | C20: 2304
B21: Portsmouth | C21: 0
B22: SES Water | C22: 0
B23: South East | C23: 92020.39
B24: South Staffs | C24: 137190.39
B25: INDUSTRY | C25: =SUM(C5:C24) -> 10439310
B27: Financial support data is based on company estimates.

Sheet Financial Hardship avg bill red
B2: Appendix 2d - Financial Hardship Funds (Average bill reduction (£))
B4: Water and Sewerage Companies | C4: 2025-26
B5: Anglian | C5: 1242.23
B6: Dwr Cymru | C6: 553.175
B7: Hafren Dyfrdwy | C7: 0
B8: Northumbrian | C8: 233.17742
B9: Severn Trent | C9: 0
B10: South West | C10: 469.52452
B11: Southern | C11: 684.51799
B12: Thames | C12: 513.257
B13: United Utilities | C13: 785.73158
B14: Wessex | C14: 0
B15: Yorkshire | C15: 525.31154
B16: Water only companies
B17: Affinity | C17: 50
B18: Bristol | C18: 0
B19: Cambridge | C19: 749.95813
B20: Essex and Suffolk | C20: 115.2
B21: Portsmouth | C21: 0
B22: SES Water | C22: 0
B23: South East | C23: 1108.6794
B24: South Staffs | C24: 224.1673
B25: INDUSTRY | C25: 146.27437
B27: Financial support data is estimated

Sheet Debt Support schemes
B2: Appendix 2a - Debt Support schemes (Connected properties)
B4: Water and Sewerage Companies | C4: 2025-26
B5: Anglian | C5: 3387
B6: Dwr Cymru | C6: 3834
B7: Hafren Dyfrdwy | C7: 162
B8: Northumbrian | C8: 9280
B9: Severn Trent | C9: 72213
B10: South West | C10: 2041
B11: Southern | C11: 615
B12: Thames | C12: 212024
B13: United Utilities | C13: 18399
B14: Wessex | C14: 13682
B15: Yorkshire | C15: 14169
B16: Water only companies
B17: Affinity | C17: 52
B18: Bristol | C18: 6444
B19: Cambridge | C19: 0
B20: Essex and Suffolk | C20: 3939
B21: Portsmouth | C21: 0
B22: SES Water | C22: 0
B23: South East | C23: 91
B24: South Staffs | C24: 0
B25: INDUSTRY | C25: =SUM(C5:C24) -> 360332
B27: Some customers who are receiving help from both a water company and a water and sewerage company may have been counted twice.

Sheet Debt Support per 10,000
B2: Appendix 2b - Debt Support schemes per 10,000 connections
B4: Water and Sewerage Companies | C4: 2025-26
B5: Anglian | C5: 10.823434
B6: Dwr Cymru | C6: 25.274299
B7: Hafren Dyfrdwy | C7: 15.902933
B8: Northumbrian | C8: 71.810007
B9: Severn Trent | C9: 163.33729
B10: South West | C10: 19.73466
B11: Southern | C11: 2.9289299
B12: Thames | C12: 341.6101
B13: United Utilities | C13: 53.730501
B14: Wessex | C14: 105.89406
B15: Yorkshire | C15: 58.633661
B16: Water only companies
B17: Affinity | C17: 0.3406173
B18: Bristol | C18: 121.27029
B19: Cambridge | C19: 0
B20: Essex and Suffolk | C20: 48.803757
B21: Portsmouth | C21: 0
B22: SES Water | C22: 0
B23: South East | C23: 0.88775118
B24: South Staffs | C24: 0
B25: INDUSTRY | C25: 112.03523
B27: Some customers who are receiving help from both a water company and a water and sewerage company may have been counted twice.

Sheet  Debt Support schemes Financial
B2: Appendix 2c - Debt Support schemes (Total financial assistance provided (£))
B4: Water and Sewerage Companies | C4: 2025-26
B5: Anglian | C5: 3884087
B6: Dwr Cymru | C6: 2953651
B7: Hafren Dyfrdwy | C7: 20965
B8: Northumbrian | C8: 620869
B9: Severn Trent | C9: 767540
B10: South West | C10: 1319852
B11: Southern | C11: 321493.22
B12: Thames | C12: 93831000
B13: United Utilities | C13: 13811146
B14: Wessex | C14: 2661632.6
B15: Yorkshire | C15: 6016252
B16: Water only companies
B17: Affinity | C17: 14628.2
B18: Bristol | C18: 559418
B19: Cambridge | C19: 0
B20: Essex and Suffolk | C20: 148469
B21: Portsmouth | C21: 0
B22: SES Water | C22: 0
B23: South East | C23: 87648.53
B24: South Staffs | C24: 0
B25: INDUSTRY | C25: =SUM(C5:C24) -> 1.2701865e+08
B27: Financial support data is based on company estimates.

Sheet Debt Support avg bill red
B2: Appendix 2d - Debt Support schemes (Average bill reduction (£))
B4: Water and Sewerage Companies | C4: 2025-26
B5: Anglian | C5: 1146.7632
B6: Dwr Cymru | C6: 770.38367
B7: Hafren Dyfrdwy | C7: 129.41358
B8: Northumbrian | C8: 66.903987
B9: Severn Trent | C9: 10.628834
B10: South West | C10: 646.66928
B11: Southern | C11: 522.7532
B12: Thames | C12: 442.54896
B13: United Utilities | C13: 750.64655
B14: Wessex | C14: 194.53534
B15: Yorkshire | C15: 424.60668
B16: Water only companies
B17: Affinity | C17: 281.31154
B18: Bristol | C18: 86.812228
B19: Cambridge | C19: 0
B20: Essex and Suffolk | C20: 37.692054
B21: Portsmouth | C21: 0
B22: SES Water | C22: 0
B23: South East | C23: 963.17066
B24: South Staffs | C24: 0
B25: INDUSTRY | C25: 352.5045
B27: Financial support data is estimated

Sheet Priority Services
B2: Appendix 4a - Priority Services Register (Connected properties)
B4: Water and Sewerage Companies | C4: 2021-22 | D4: 2022-23 | E4: 2023-24 | F4: 2024-25 | G4: 2025-26
B5: Anglian | C5: 277418 | D5: 336296 | E5: 380853 | F5: 444387 | G5: 514016
B6: Dŵr Cymru Welsh Water | C6: 116290 | D6: 144933 | E6: 167957 | F6: 243707 | G6: 307096
B7: Hafren Dyfrdwy | C7: 4024 | D7: 5432 | E7: 6959 | F7: 9421 | G7: 10984
B8: Northumbrian | C8: 48641 | D8: 109597 | E8: 130274 | F8: 159057 | G8: 175275
B9: Severn Trent | C9: 236127 | D9: 320248 | E9: 386904 | F9: 415030 | G9: 494007
B10: South West | C10: 58073 | D10: 78981 | E10: 107219 | F10: 133567 | G10: 168668
B11: Southern | C11: 56487 | D11: 166384 | E11: 235901 | F11: 310591 | G11: 359733
B12: Thames | C12: 284379 | D12: 358899 | E12: 441936 | F12: 606751 | G12: 723454
B13: United Utilities | C13: 186224 | D13: 294490 | E13: 401987 | F13: 540380 | G13: 597401
B14: Wessex | C14: 49323 | D14: 76285 | E14: 113763 | F14: 152838 | G14: 188144
B15: Yorkshire | C15: 88702 | D15: 109194 | E15: 212872 | F15: 243593 | G15: 326129
B16: Water only companies
B17: Affinity | C17: 92752 | D17: 120261 | E17: 155690 | F17: 193971 | G17: 237840
B18: Bristol | C18: 21167 | D18: 33764 | E18: 46258 | F18: 57341 | G18: 73439
B19: Cambridge | C19: 7730 | D19: 10196 | E19: 11179 | F19: 14859 | G19: 20092
B20: Essex and Suffolk | C20: 20614 | D20: 63791 | E20: 78517 | F20: 103685 | G20: 120622
B21: Portsmouth | C21: 31529 | D21: 31838 | E21: 38739 | F21: 48280 | G21: 53424
B22: SES Water | C22: 13167 | D22: 19597 | E22: 26917 | F22: 46227 | G22: 62313
B23: South East | C23: 47027 | D23: 72777 | E23: 100869 | F23: 130452 | G23: 174960
B24: South Staffs | C24: 51129 | D24: 61691 | E24: 67606 | F24: 87249 | G24: 110651
B25: INDUSTRY | C25: =SUM(C5:C24) -> 1690803 | D25: =SUM(D5:D24) -> 2414654 | E25: =SUM(E5:E24) -> 3112400 | F25: =SUM(F5:F24) -> 3941386 | G25: =SUM(G5:G24) -> 4718248
B27: Some customers who are receiving help from both a water company and a water and sewerage company may have been counted twice.

Sheet Priority Services per 10,000
B2: Appendix 4b - Priority Services Register per 10,000 connections
B4: Water and Sewerage Companies | C4: 2021-22 | D4: 2022-23 | E4: 2023-24 | F4: 2024-25 | G4: 2025-26
B5: Anglian | C5: 918.35816 | D5: 1101.5599 | E5: 1235.6182 | F5: 1427.5292 | G5: 1642.58
B6: Dŵr Cymru Welsh Water | C6: 783.17306 | D6: 970.51095 | E6: 1120.5859 | F6: 1620.2124 | G6: 2024.4226
B7: Hafren Dyfrdwy | C7: 405.57975 | D7: 542.39184 | E7: 691.15751 | F7: 930.98405 | G7: 1078.2581
B8: Northumbrian | C8: 389.40588 | D8: 870.63835 | E8: 1028.663 | F8: 1248.7801 | G8: 1356.3038
B9: Severn Trent | C9: 528.16349 | D9: 714.50962 | E9: 856.20772 | F9: 946.25198 | G9: 1117.3856
B10: South West | C10: 577.06563 | D10: 778.06741 | E10: 1048.4951 | F10: 1297.2405 | G10: 1630.87
B11: Southern | C11: 277.42171 | D11: 812.2672 | E11: 1135.4654 | F11: 1487.3915 | G11: 1713.224
B12: Thames | C12: 483.6992 | D12: 604.98642 | E12: 739.05604 | F12: 1010.2228 | G12: 1165.619
B13: United Utilities | C13: 559.60447 | D13: 880.54448 | E13: 1192.1779 | F13: 1593.6375 | G13: 1744.5869
B14: Wessex | C14: 390.85927 | D14: 599.77105 | E14: 889.01097 | F14: 1188.2588 | G14: 1456.1711
B15: Yorkshire | C15: 377.50849 | D15: 461.04173 | E15: 891.1204 | F15: 1015.1227 | G15: 1349.5756
B16: Water only companies
B17: Affinity | C17: 625.68048 | D17: 803.26835 | E17: 1031.8113 | F17: 1275.8631 | G17: 1557.9311
B18: Bristol | C18: 407.00838 | D18: 643.7909 | E18: 876.2993 | F18: 1081.6404 | G18: 1382.056
B19: Cambridge | C19: 552.11131 | D19: 720.52463 | E19: 783.05151 | F19: 1033.3102 | G19: 1383.0988
B20: Essex and Suffolk | C20: 263.00613 | D20: 806.90086 | E20: 987.54827 | F20: 1297.342 | G20: 1494.4927
B21: Portsmouth | C21: 1021.6421 | D21: 1030.2793 | E21: 1246.7294 | F21: 1549.1091 | G21: 1701.7698
B22: SES Water | C22: 460.206 | D22: 680.60736 | E22: 931.21009 | F22: 1555.2707 | G22: 2085.714
B23: South East | C23: 473.16958 | D23: 725.11608 | E23: 993.92132 | F23: 1275.8766 | G23: 1706.8236
B24: South Staffs | C24: 901.02299 | D24: 1080.0207 | E24: 1176.4808 | F24: 1511.8393 | G24: 1910.2955
B25: INDUSTRY | C25: 540.74324 | D25: 766.71847 | E25: 980.24647 | F25: 1240.1858 | G25: 1467.0082
B27: Some customers who are receiving help from both a water company and a water and sewerage company may have been counted twice.

Sheet Priority Services % of HH conn
B1: Appendix 4c - Priority Services Register
B3: Percentage of households as reported to CCW | I3: Percentage of households as per Ofwat defintion
B4: Water and Sewerage Companies | C4: 2021-22 | D4: 2022-23 | E4: 2023-24 | F4: 2024-25 | G4: 2025-26 | I4: Water and Sewerage Companies | J4: 2021-22 | K4: 2022-23 | L4: 2023-24 | M4: 2024-25 | N4: 2025-26
B5: Anglian | C5: ='Priority Services per 10,000'!C5/100 -> 9.1835816 | D5: ='Priority Services per 10,000'!D5/100 -> 11.015599 | E5: ='Priority Services per 10,000'!E5/100 -> 12.356182 | F5: ='Priority Services per 10,000'!F5/100 -> 14.275292 | G5: ='Priority Services per 10,000'!G5/100 -> 16.4258 | I5: Anglian | J5: 9.4 | K5: 11.4 | L5: 12.7 | M5: 14.7 | N5: 16.95
B6: Dŵr Cymru Welsh Water | C6: ='Priority Services per 10,000'!C6/100 -> 7.8317306 | D6: ='Priority Services per 10,000'!D6/100 -> 9.7051095 | E6: ='Priority Services per 10,000'!E6/100 -> 11.205859 | F6: ='Priority Services per 10,000'!F6/100 -> 16.202124 | G6: ='Priority Services per 10,000'!G6/100 -> 20.244226 | I6: Dŵr Cymru Welsh Water | J6: 8.1 | K6: 10 | L6: 11.5 | M6: 16.6 | N6: 20.8
B7: Hafren Dyfrdwy | C7: ='Priority Services per 10,000'!C7/100 -> 4.0557975 | D7: ='Priority Services per 10,000'!D7/100 -> 5.4239184 | E7: ='Priority Services per 10,000'!E7/100 -> 6.9115751 | F7: ='Priority Services per 10,000'!F7/100 -> 9.3098405 | G7: ='Priority Services per 10,000'!G7/100 -> 10.782581 | I7: Hafren Dyfrdwy | J7: 4.2 | K7: 5.6 | L7: 7.2 | M7: 9.6 | N7: 11
B8: Northumbrian | C8: ='Priority Services per 10,000'!C8/100 -> 3.8940588 | D8: ='Priority Services per 10,000'!D8/100 -> 8.7063835 | E8: ='Priority Services per 10,000'!E8/100 -> 10.28663 | F8: ='Priority Services per 10,000'!F8/100 -> 12.487801 | G8: ='Priority Services per 10,000'!G8/100 -> 13.563038 | I8: Northumbrian & Essex and Suffolk* | J8: 3.5 | K8: 8.8 | L8: 10.5 | M8: 13.2 | N8: 14.25
B9: Severn Trent | C9: ='Priority Services per 10,000'!C9/100 -> 5.2816349 | D9: ='Priority Services per 10,000'!D9/100 -> 7.1450962 | E9: ='Priority Services per 10,000'!E9/100 -> 8.5620772 | F9: ='Priority Services per 10,000'!F9/100 -> 9.4625198 | G9: ='Priority Services per 10,000'!G9/100 -> 11.173856 | I9: Severn Trent | J9: 5.7 | K9: 7.7 | L9: 9.2 | M9: 9.9 | N9: 11.8
B10: South West | C10: ='Priority Services per 10,000'!C10/100 -> 5.7706563 | D10: ='Priority Services per 10,000'!D10/100 -> 7.7806741 | E10: ='Priority Services per 10,000'!E10/100 -> 10.484951 | F10: ='Priority Services per 10,000'!F10/100 -> 12.972405 | G10: ='Priority Services per 10,000'!G10/100 -> 16.3087 | I10: South West | J10: 5.8 | K10: 7.8 | L10: 10.6 | M10: 13.1 | N10: 16.31
B11: Southern | C11: ='Priority Services per 10,000'!C11/100 -> 2.7742171 | D11: ='Priority Services per 10,000'!D11/100 -> 8.122672 | E11: ='Priority Services per 10,000'!E11/100 -> 11.354654 | F11: ='Priority Services per 10,000'!F11/100 -> 14.873915 | G11: ='Priority Services per 10,000'!G11/100 -> 17.13224 | I11: Southern | J11: 2.9 | K11: 8.3 | L11: 11.7 | M11: 15.3 | N11: 23.91
B12: Thames | C12: ='Priority Services per 10,000'!C12/100 -> 4.836992 | D12: ='Priority Services per 10,000'!D12/100 -> 6.0498642 | E12: ='Priority Services per 10,000'!E12/100 -> 7.3905604 | F12: ='Priority Services per 10,000'!F12/100 -> 10.102228 | G12: ='Priority Services per 10,000'!G12/100 -> 11.65619 | I12: Thames | J12: 5 | K12: 6.2 | L12: 7.6 | M12: 10.4 | N12: 12.4
B13: United Utilities | C13: ='Priority Services per 10,000'!C13/100 -> 5.5960447 | D13: ='Priority Services per 10,000'!D13/100 -> 8.8054448 | E13: ='Priority Services per 10,000'!E13/100 -> 11.921779 | F13: ='Priority Services per 10,000'!F13/100 -> 15.936375 | G13: ='Priority Services per 10,000'!G13/100 -> 17.445869 | I13: United Utilities | J13: 5.9 | K13: 9.1 | L13: 12.4 | M13: 16.5 | N13: 18.26
B14: Wessex | C14: ='Priority Services per 10,000'!C14/100 -> 3.9085927 | D14: ='Priority Services per 10,000'!D14/100 -> 5.9977105 | E14: ='Priority Services per 10,000'!E14/100 -> 8.8901097 | F14: ='Priority Services per 10,000'!F14/100 -> 11.882588 | G14: ='Priority Services per 10,000'!G14/100 -> 14.561711 | I14: Wessex | J14: 4 | K14: 6.1 | L14: 9.1 | M14: 12.1 | N14: 14.92
B15: Yorkshire | C15: ='Priority Services per 10,000'!C15/100 -> 3.7750849 | D15: ='Priority Services per 10,000'!D15/100 -> 4.6104173 | E15: ='Priority Services per 10,000'!E15/100 -> 8.911204 | F15: ='Priority Services per 10,000'!F15/100 -> 10.151227 | G15: ='Priority Services per 10,000'!G15/100 -> 13.495756 | I15: Yorkshire | J15: 3.9 | K15: 4.8 | L15: 9.2 | M15: 10.6 | N15: 14.01
B16: Water only companies | I16: Water only companies
B17: Affinity | C17: ='Priority Services per 10,000'!C17/100 -> 6.2568048 | D17: ='Priority Services per 10,000'!D17/100 -> 8.0326835 | E17: ='Priority Services per 10,000'!E17/100 -> 10.318113 | F17: ='Priority Services per 10,000'!F17/100 -> 12.758631 | G17: ='Priority Services per 10,000'!G17/100 -> 15.579311 | I17: Affinity | J17: 6.5 | K17: 8.3 | L17: 10.7 | M17: 13.29 | N17: 16.26282
B18: Bristol | C18: ='Priority Services per 10,000'!C18/100 -> 4.0700838 | D18: ='Priority Services per 10,000'!D18/100 -> 6.437909 | E18: ='Priority Services per 10,000'!E18/100 -> 8.762993 | F18: ='Priority Services per 10,000'!F18/100 -> 10.816404 | G18: ='Priority Services per 10,000'!G18/100 -> 13.82056 | I18: Bristol | J18: 4.1 | K18: 6.5 | L18: 8.9 | M18: 11 | N18: 13.83
B19: Cambridge | C19: ='Priority Services per 10,000'!C19/100 -> 5.5211131 | D19: ='Priority Services per 10,000'!D19/100 -> 7.2052463 | E19: ='Priority Services per 10,000'!E19/100 -> 7.8305151 | F19: ='Priority Services per 10,000'!F19/100 -> 10.333102 | G19: ='Priority Services per 10,000'!G19/100 -> 13.830988 | I19: Cambridge & South Staffs* | J19: 8.7 | K19: 10.6 | L19: 11.6 | M19: 14.9 | N19: 14.395541
B20: Essex and Suffolk | C20: ='Priority Services per 10,000'!C20/100 -> 2.6300613 | D20: ='Priority Services per 10,000'!D20/100 -> 8.0690086 | E20: ='Priority Services per 10,000'!E20/100 -> 9.8754827 | F20: ='Priority Services per 10,000'!F20/100 -> 12.97342 | G20: ='Priority Services per 10,000'!G20/100 -> 14.944927 | I20: Essex and Suffolk & Northumbrian* | J20: 3.5 | K20: 8.8 | L20: 10.5 | M20: 13.2 | N20: 15.58
B21: Portsmouth | C21: ='Priority Services per 10,000'!C21/100 -> 10.216421 | D21: ='Priority Services per 10,000'!D21/100 -> 10.302793 | E21: ='Priority Services per 10,000'!E21/100 -> 12.467294 | F21: ='Priority Services per 10,000'!F21/100 -> 15.491091 | G21: ='Priority Services per 10,000'!G21/100 -> 17.017698 | I21: Portsmouth | J21: 10.5 | K21: 10.5 | L21: 12.5 | M21: 15.5 | N21: 17
B22: SES Water | C22: ='Priority Services per 10,000'!C22/100 -> 4.60206 | D22: ='Priority Services per 10,000'!D22/100 -> 6.8060736 | E22: ='Priority Services per 10,000'!E22/100 -> 9.3121009 | F22: ='Priority Services per 10,000'!F22/100 -> 15.552707 | G22: ='Priority Services per 10,000'!G22/100 -> 20.85714 | I22: SES Water | J22: 5.6 | K22: 6.8 | L22: 9.3 | M22: 15.8 | N22: 21.2
B23: South East | C23: ='Priority Services per 10,000'!C23/100 -> 4.7316958 | D23: ='Priority Services per 10,000'!D23/100 -> 7.2511608 | E23: ='Priority Services per 10,000'!E23/100 -> 9.9392132 | F23: ='Priority Services per 10,000'!F23/100 -> 12.758766 | G23: ='Priority Services per 10,000'!G23/100 -> 17.068236 | I23: South East | J23: 5.2 | K23: 8 | L23: 11 | M23: 14.1 | N23: 18.85
B24: South Staffs | C24: ='Priority Services per 10,000'!C24/100 -> 9.0102299 | D24: ='Priority Services per 10,000'!D24/100 -> 10.800207 | E24: ='Priority Services per 10,000'!E24/100 -> 11.764808 | F24: ='Priority Services per 10,000'!F24/100 -> 15.118393 | G24: ='Priority Services per 10,000'!G24/100 -> 19.102955 | I24: South Staffs & Cambridge* | J24: 8.7 | K24: 10.6 | L24: 11.6 | M24: 14.9 | N24: 20.123559
B25: INDUSTRY | C25: ='Priority Services per 10,000'!C25/100 -> 5.4074324 | D25: ='Priority Services per 10,000'!D25/100 -> 7.6671847 | E25: ='Priority Services per 10,000'!E25/100 -> 9.8024647 | F25: ='Priority Services per 10,000'!F25/100 -> 12.401858 | G25: ='Priority Services per 10,000'!G25/100 -> 14.670082 | I25: INDUSTRY | J25: 5.7 | K25: 8 | L25: =(3112400/30284041)*100 -> 10.27736 | M25: =(3941386/30684532)*100 -> 12.844863 | N25: =(4718248/32162384)*100 -> 14.670082
I27: * Northumbrian & Essex and Suffolk and South Staff & Cambridge reported at company level until 2024-25, from 2025-26 this is on a regional basis

Sheet Priority Services Actual contac
B3: Appendix 4d -Priority Services Register (% Actual contact achieved with households on PSR)
B5: Water and Sewerage Companies | C5: 2021-22 | D5: 2022-23 | E5: 2023-24 | F5: 2024-25 | G5: 2025-26
B6: Anglian | C6: 0.622 | D6: 0.624 | E6: 0.562 | F6: 0.581 | G6: 0.554
B7: Dŵr Cymru Welsh Water | C7: 0.4085 | D7: 0.434 | E7: 0.421 | F7: 0.448 | G7: 0.449
B8: Hafren Dyfrdwy | C8: 0.5458 | D8: 0.532 | E8: 0.4396 | F8: 0.4181 | G8: 0.436
B9: Northumbrian | C9: 0.4769 | D9: 0.5155 | E9: 0.567 | F9: 0.453 | G9: 0.5791
B10: Severn Trent | C10: 0.5641 | D10: 0.4864 | E10: 0.4127 | F10: 0.4058 | G10: 0.4384
B11: South West | C11: 0.5549 | D11: 0.4702 | E11: 0.6195 | F11: 0.552 | G11: 0.4512
B12: Southern | C12: 0.326 | D12: 0.22 | E12: 0.364 | F12: 0.3868 | G12: 0.356
B13: Thames | C13: 0.454 | D13: 0.4743 | E13: 0.4773 | F13: 0.525 | G13: 0.596
B14: United Utilities | C14: 0.507 | D14: 0.558 | E14: 0.53 | F14: 0.506 | G14: 0.429
B15: Wessex | C15: 0.5498 | D15: 0.5477 | E15: 0.5849 | F15: 0.6455 | G15: 0.6354
B16: Yorkshire | C16: 0.1433 | D16: 0.174 | E16: 0.3406 | F16: 0.3984 | G16: 0.3674
B17: Water only companies
B18: Affinity | C18: 0.4659 | D18: 0.5552 | E18: 0.5563 | F18: 0.521 | G18: 0.52456954
B19: Bristol | C19: 0.532 | D19: 0.5308 | E19: 0.596 | F19: 0.626 | G19: 0.5995
B20: Cambridge | C20: 0.6897 | D20: 0.3602 | E20: 0.6139 | F20: 0.47729618 | G20: 0.3415
B21: Essex and Suffolk | C21: 0.1926 | D21: 0.2471 | E21: 0.35 | F21: 0.3196 | G21: 0.4132
B22: Portsmouth | C22: 0.1343 | D22: 0.468 | E22: 0.4673 | F22: 0.441 | G22: 0.448
B23: SES Water | C23: 0.94 | D23: 0.596 | E23: 0.748 | F23: 0.722 | G23: 0.704
B24: South East | C24: 0.5748 | D24: 0.5451 | E24: 0.5113 | F24: 0.3893 | G24: 0.3573
B25: South Staffs | C25: 0.3727 | D25: 0.4658 | E25: 0.5542 | F25: 0.45537726 | G25: 0.3718

Sheet Priority Services Attempted con
B2: Appendix 4e - Priority Services Register (% Attempted contact with households on PSR)
B4: Water and Sewerage Companies | C4: 2021-22 | D4: 2022-23 | E4: 2023-24 | F4: 2024-25 | G4: 2025-26
B5: Anglian | C5: 1 | D5: 1 | E5: 0.969 | F5: 0.9932 | G5: 0.9955
B6: Dŵr Cymru Welsh Water | C6: 0.9325 | D6: 0.962 | E6: 0.9344 | F6: 0.983 | G6: 0.999
B7: Hafren Dyfrdwy | C7: 0.994 | D7: 0.971 | E7: 0.9879 | F7: 0.9829 | G7: 0.982
B8: Northumbrian | C8: 0.9294 | D8: 0.913 | E8: 0.92 | F8: 0.961 | G8: 0.9809
B9: Severn Trent | C9: 0.9935 | D9: 0.968 | E9: 0.9884 | F9: 0.9821 | G9: 0.9538
B10: South West | C10: 0.9036 | D10: 0.9011 | E10: 0.9047 | F10: 0.949 | G10: 0.9049
B11: Southern | C11: 0.725 | D11: 1.12 | E11: 0.987 | F11: 0.9533 | G11: 0.964
B12: Thames | C12: 0.934 | D12: 0.9366 | E12: 0.9152 | F12: 0.946 | G12: 0.952
B13: United Utilities | C13: 0.933 | D13: 0.917 | E13: 0.92 | F13: 0.924 | G13: 0.917
B14: Wessex | C14: 0.9159 | D14: 0.9084 | E14: 0.9818 | F14: 0.9734 | G14: 0.961
B15: Yorkshire | C15: 0.4519 | D15: 0.998 | E15: 1.073 | F15: 0.9956 | G15: 0.9792
B16: Water only companies
B17: Affinity | C17: 0.9043 | D17: 0.9816 | E17: 0.9435 | F17: 0.996 | G17: 0.90677512
B18: Bristol | C18: 0.911 | D18: 0.9107 | E18: 0.951 | F18: 0.947 | G18: 0.9429
B19: Cambridge | C19: 1 | D19: 0.308 | E19: 0.9444 | F19: 0.88428793 | G19: 0.9328
B20: Essex and Suffolk | C20: 0.9461 | D20: 0.875 | E20: 0.883 | F20: 0.9073 | G20: 0.988
B21: Portsmouth | C21: 0.9657 | D21: 0.941 | E21: 0.9304 | F21: 0.924 | G21: 0.95
B22: SES Water | C22: 0.97 | D22: 0.902 | E22: 0.912 | F22: 0.937 | G22: 0.9493
B23: South East | C23: 0.9351 | D23: 0.9025 | E23: 0.9188 | F23: 0.9049 | G23: 0.9525
B24: South Staffs | C24: 0.9383 | D24: 0.2655 | E24: 0.9882 | F24: 0.91798429 | G24: 0.9147
B25: If over 100% then some customers were contacted more than once.

Sheet Internal Flooding
B2: Appendix 5a - Number of properties flooded internally
B4: Water and Sewerage Companies | C4: 2021-22 | D4: 2022-23 | E4: 2023-24 | F4: 2024-25 | G4: 2025-26
B5: Anglian | C5: 497 | D5: 491 | E5: 662 | F5: 418 | G5: 268
B6: Dwr Cymru | C6: 201 | D6: 169 | E6: 201 | F6: 189 | G6: 185
B7: Hafren Dyfrdwy | C7: 5 | D7: 3 | E7: 5 | F7: 3 | G7: 2
B8: Northumbrian | C8: 238 | D8: 158 | E8: 159 | F8: 136 | G8: 72
B9: Severn Trent | C9: 677 | D9: 698 | E9: 710 | F9: 561 | G9: 512
B10: South West | C10: 60 | D10: 50 | E10: 59 | F10: 50 | G10: 96
B11: Southern | C11: 614 | D11: 456 | E11: 527 | F11: 277 | G11: 392
B12: Thames | C12: 2103 | D12: 1170 | E12: 1161 | F12: 1137 | G12: 894
B13: United Utilities | C13: 1042 | D13: 814 | E13: 1509 | F13: 1218 | G13: 708
B14: Wessex | C14: 182 | D14: 168 | E14: 202 | F14: 203 | G14: 154
B15: Yorkshire | C15: 664 | D15: 630 | E15: 662 | F15: 530 | G15: 610
B16: Industry | C16: =SUM(C5:C15) -> 6283 | D16: =SUM(D5:D15) -> 4807 | E16: =SUM(E5:E15) -> 5857 | F16: =SUM(F5:F15) -> 4722 | G16: =SUM(G5:G15) -> 3893
B18: Number of properties flooded internally (per 10,000 sewerage connections)
B20: Water and Sewerage Companies | C20: 2021-22 | D20: 2022-23 | E20: 2023-24 | F20: 2024-25 | G20: 2025-26
B21: Anglian | C21: 1.7165336 | D21: 1.6752128 | E21: 2.2397 | F21: 1.4003209 | G21: 0.89370899
B22: Dwr Cymru | C22: 1.3519049 | D22: 1.1312785 | E22: 1.341242 | F22: 1.2569264 | G22: 1.2201452
B23: Hafren Dyfrdwy | C23: 2.2683967 | D23: 1.3425222 | E23: 2.2290414 | F23: 1.394765 | G23: 0.91554131
B24: Northumbrian | C24: 1.8280061 | D24: 1.2047311 | E24: 1.2055272 | F24: 1.0252629 | G24: 0.53617945
B25: Severn Trent | C25: 1.5549692 | D25: 1.5991939 | E25: 1.6142501 | F25: 1.3165676 | G25: 1.1915284
B26: South West | C26: 0.77020043 | D26: 0.63597696 | E26: 0.74504074 | F26: 0.62735651 | G26: 1.1988895
B27: Southern | C27: 3.0318921 | D27: 2.2399904 | E27: 2.5556769 | F27: 1.3352422 | G27: 1.8745003
B28: Thames | C28: 3.43924 | D28: 1.8979737 | E28: 1.870769 | F28: 1.8262646 | G28: 1.3932475
B29: United Utilities | C29: 3.0240089 | D29: 2.3552477 | E29: 4.3329472 | F29: 3.471767 | G29: 2.0002209
B30: Wessex | C30: 1.4197454 | D30: 1.3007093 | E30: 1.5550854 | F30: 1.5554268 | G30: 1.174977
B31: Yorkshire | C31: 2.8221106 | D31: 2.6579508 | E31: 2.7704042 | F31: 2.2089997 | G31: 2.5251396
B32: Industry | C32: 2.4110342 | D32: 1.8327921 | E32: 2.2164487 | F32: 1.7881075 | G32: 1.4552595
B36: Before 2020-21 sewer flooding data provided to CCW by companies was inconsistent as some companies did not include Incidents caused by sewers and laterals transferred under the Transfer of Private Sewers Regulations 2011, pumping stations transferred in 2016 and severe weather. These are now included so historical comparisons cannot be made. However, sewer flooding data is now in line with the methodology used by all companies for the Common Performance Commitments.
B41: Link to reporting guidance

Sheet External Flooding
B2: Appendix 5b - Number of properties flooded externally
B4: Water and Sewerage Companies | C4: 2021-22 | D4: 2022-23 | E4: 2023-24 | F4: 2024-25 | G4: 2025-26
B5: Anglian | C5: 4181 | D5: 4673 | E5: 6564 | F5: 5232 | G5: 4468
B6: Dwr Cymru | C6: 3889 | D6: 3634 | E6: 3539 | F6: 3380 | G6: 3450
B7: Hafren Dyfrdwy | C7: 42 | D7: 43 | E7: 58 | F7: 50 | G7: 32
B8: Northumbrian | C8: 3454 | D8: 3018 | E8: 2764 | F8: 2431 | G8: 2160
B9: Severn Trent | C9: 4526 | D9: 5353 | E9: 6721 | F9: 7018 | G9: 6123
B10: South West | C10: 1407 | D10: 1816 | E10: 1578 | F10: 1465 | G10: 1442
B11: Southern | C11: 3944 | D11: 3748 | E11: 3245 | F11: 3047 | G11: 2507
B12: Thames | C12: 17570 | D12: 11305 | E12: 13267 | F12: 12461 | G12: 11083
B13: United Utilities | C13: 6320 | D13: 6057 | E13: 7063 | F13: 7365 | G13: 5593
B14: Wessex | C14: 2460 | D14: 2295 | E14: 2399 | F14: 2229 | G14: 2095
B15: Yorkshire | C15: 4578 | D15: 5375 | E15: 5873 | F15: 5684 | G15: 5110
B16: Industry | C16: =SUM(C5:C15) -> 52371 | D16: =SUM(D5:D15) -> 47317 | E16: =SUM(E5:E15) -> 53071 | F16: =SUM(F5:F15) -> 50362 | G16: =SUM(G5:G15) -> 44063
B18: Number of properties flooded externally (per 10,000 sewerage connections)
B20: Water and Sewerage Companies | C20: 2021-22 | D20: 2022-23 | E20: 2023-24 | F20: 2024-25 | G20: 2025-26
B21: Anglian | C21: 14.440296 | D21: 15.943522 | E21: 22.207539 | F21: 17.527462 | G21: 14.899596
B22: Dwr Cymru | C22: 26.157005 | D22: 24.325835 | E22: 23.615201 | F22: 22.478366 | G22: 22.754059
B23: Hafren Dyfrdwy | C23: 19.054532 | D23: 19.242818 | E23: 25.856881 | F23: 23.246083 | G23: 14.648661
B24: Northumbrian | C24: 26.529131 | D24: 23.011889 | E24: 20.956461 | F24: 18.326575 | G24: 16.085384
B25: Severn Trent | C25: 10.395555 | D25: 12.264305 | E25: 15.28081 | F25: 16.470003 | G25: 14.24947
B26: South West | C26: 18.0612 | D26: 23.098683 | E26: 19.926683 | F26: 18.381546 | G26: 18.00832
B27: Southern | C27: 19.475216 | D27: 18.411149 | E27: 15.736568 | F27: 14.687664 | G27: 11.988194
B28: Thames | C28: 28.733926 | D28: 18.338968 | E28: 21.377685 | F28: 20.015025 | G28: 17.272218
B29: United Utilities | C29: 18.341398 | D29: 17.525474 | E29: 20.28072 | F29: 20.993074 | G29: 15.80118
B30: Wessex | C30: 19.189965 | D30: 17.768618 | E30: 18.468564 | F30: 17.079046 | G30: 15.984264
B31: Yorkshire | C31: 19.457262 | D31: 22.676962 | E31: 24.577921 | F31: 23.69048 | G31: 21.153219
B32: Industry | C32: 20.096812 | D32: 18.04082 | E32: 20.083515 | F32: 19.070875 | G32: 16.471385
B36: Before 2020-21 sewer flooding data provided to CCW by companies was inconsistent as some companies did not include Incidents caused by sewers and laterals transferred under the Transfer of Private Sewers Regulations 2011, pumping stations transferred in 2016 and severe weather. These are now included so historical comparisons cannot be made. However, sewer flooding data is now in line with the methodology used by all companies for the Common Performance Commitments.
B41: Link to reporting guidance

Sheet Sewer Blockages
B2: Appendix 5c - Number of Sewer blockages
B4: Water and Sewerage Companies | C4: 2021-22 | D4: 2022-23 | E4: 2023-24 | F4: 2024-25 | G4: 2025-26
B5: Anglian | C5: 42844 | D5: 40365 | E5: 36171 | F5: 35245 | G5: 35708
B6: Dwr Cymru | C6: 22450 | D6: 23038 | E6: 20089 | F6: 19461 | G6: 18078
B7: Hafren Dyfrdwy | C7: 221 | D7: 244 | E7: 216 | F7: 227 | G7: 177
B8: Northumbrian | C8: 11991 | D8: 10949 | E8: 9733 | F8: 9020 | G8: 8679
B9: Severn Trent | C9: 31033 | D9: 34581 | E9: 28547 | F9: 28062 | G9: 28447
B10: South West | C10: 6458 | D10: 7149 | E10: 6448 | F10: 6445 | G10: 6086
B11: Southern | C11: 22361 | D11: 21620 | E11: 15604 | F11: 20009 | G11: 18408
B12: Thames | C12: 74569 | D12: 73780 | E12: 66690 | F12: 65472 | G12: 59827
B13: United Utilities | C13: 20765 | D13: 20318 | E13: 17986 | F13: 17819 | G13: 17782
B14: Wessex | C14: 13685 | D14: 14146 | E14: 12619 | F14: 12887 | G14: 11682
B15: Yorkshire | C15: 26373 | D15: 26529 | E15: 23909 | F15: 26174 | G15: 18760
B16: Industry | C16: =SUM(C5:C15) -> 272750 | D16: =SUM(D5:D15) -> 272719 | E16: =SUM(E5:E15) -> 238012 | F16: =SUM(F5:F15) -> 240821 | G16: =SUM(G5:G15) -> 223634
B18: Sewer Blockages (per 10,000 sewerage connections)
B20: Water and Sewerage Companies | C20: 2021-22 | D20: 2022-23 | E20: 2023-24 | F20: 2024-25 | G20: 2025-26
B21: Anglian | C21: 147.97418 | D21: 137.71887 | E21: 122.37491 | F21: 118.07252 | G21: 119.07672
B22: Dwr Cymru | C22: 150.99634 | D22: 154.21535 | E22: 134.0508 | F22: 129.42352 | G22: 119.23127
B23: Hafren Dyfrdwy | C23: 100.26313 | D23: 109.1918 | E23: 96.29459 | F23: 105.53722 | G23: 81.025406
B24: Northumbrian | C24: 92.09925 | D24: 83.484814 | E24: 73.794947 | F24: 67.999056 | G24: 64.631965
B25: Severn Trent | C25: 71.278226 | D25: 79.228831 | E25: 64.904224 | F25: 65.856543 | G25: 66.201971
B26: South West | C26: 82.89924 | D26: 90.931986 | E26: 81.424114 | F26: 80.866254 | G26: 76.004601
B27: Southern | C27: 110.41717 | D27: 106.20305 | E27: 75.671314 | F27: 96.450762 | G27: 88.025004
B28: Thames | C28: 121.94992 | D28: 119.6859 | E28: 107.46045 | F28: 105.162 | G28: 93.236936
B29: United Utilities | C29: 60.26252 | D29: 58.788604 | E29: 51.645056 | F29: 50.790981 | G29: 50.237187
B30: Wessex | C30: 106.75393 | D30: 109.52282 | E30: 97.146649 | F30: 98.742786 | G30: 89.130395
B31: Yorkshire | C31: 112.08964 | D31: 111.92504 | E31: 100.05679 | F31: 109.09124 | G31: 77.658392
B32: Industry | C32: 104.6649 | D32: 103.98112 | E32: 90.070237 | F32: 91.193105 | G32: 83.597614
B33: Link to reporting guidance

Sheet Annual Leakage
B2: Appendix 6a - Annual Leakage (Megalitres per day)
B4: Water and Sewerage Companies | C4: 2021-22 | D4: 2022-23 | E4: 2023-24 | F4: 2024-25 | G4: 2025-26
B5: Anglian | C5: 173.4 | D5: 190.5 | E5: 182.1 | F5: 187 | G5: 215.3
B6: Dwr Cymru | C6: 240.3 | D6: 253.2 | E6: 261.6 | F6: 234.2 | G6: 233.27
B7: Hafren Dyfrdwy | C7: 16.1 | D7: 16.2 | E7: 15.3 | F7: 14.9 | G7: 15.9
B8: Northumbrian | C8: 130.5 | D8: 118.8 | E8: 120 | F8: 117.1 | G8: 110.1
B9: Severn Trent | C9: 397.3 | D9: 416 | E9: 362.9 | F9: 335.1 | G9: 332.2
B10: South West | C10: 90.6 | D10: 112.2 | E10: 118.5 | F10: 107.8 | G10: 113.5
B11: Southern | C11: 101.1 | D11: 116.2 | E11: 112 | F11: 101.6 | G11: 89.8
B12: Thames | C12: 591.8 | D12: 613.5 | E12: 570.4 | F12: 569.1 | G12: 573.7
B13: United Utilities | C13: 413.9 | D13: 423 | E13: 408.6 | F13: 411.2 | G13: 394.85
B14: Wessex | C14: 63.3 | D14: 71.2 | E14: 69.8 | F14: 69.1 | G14: 76.98
B15: Yorkshire | C15: 283.1 | D15: 282.8 | E15: 260 | F15: 260.2 | G15: 250.6
B16: Water only companies
B17: Affinity | C17: 154.3 | D17: 150.7 | E17: 153.5 | F17: 148.1 | G17: 149.1073
B18: Bristol | C18: 35.6 | D18: 40.6 | E18: 38.3 | F18: 36.7 | G18: 34
B19: Cambridge | C19: 12.5 | D19: 13.4 | E19: 12.3 | F19: 10.9 | G19: 12.4
B20: Essex and Suffolk | C20: 59.3 | D20: 55.6 | E20: 50.8 | F20: 54.8 | G20: 51.6
B21: Portsmouth | C21: 35.4 | D21: 37.5 | E21: 36.4 | F21: 32.3 | G21: 33.4
B22: SES Water | C22: 21.1 | D22: 22.8 | E22: 20.7 | F22: 20 | G22: 23.4
B23: South East | C23: 88.7 | D23: 102 | E23: 101.4 | F23: 104.8 | G23: 101.1
B24: South Staffs | C24: 67.4 | D24: 65.3 | E24: 64.1 | F24: 58.4 | G24: 56
B25: INDUSTRY | C25: =SUM(C5:C24) -> 2975.7 | D25: =SUM(D5:D24) -> 3101.5 | E25: =SUM(E5:E24) -> 2958.7 | F25: =SUM(F5:F24) -> 2873.3 | G25: =SUM(G5:G24) -> 2867.2073
B27: Leakage data is not comparable with years previous to 2020-21 due to a change in reporting. However, leakage data is now in line with the methodology used by all companies for the common performance commitments.
B29: Link to reporting guidance

Sheet Annual Leakage(lpd)
B2: Appendix 6b - Annual Leakage per property served (litres per day)
B4: Water and Sewerage Companies | C4: 2021-22 | D4: 2022-23 | E4: 2023-24 | F4: 2024-25 | G4: 2025-26
B5: Anglian | C5: 76.265338 | D5: 82.948454 | E5: 78.716808 | F5: 80.314834 | G5: 91.962055
B6: Dwr Cymru | C6: 163.84501 | D6: 172.38914 | E6: 177.50203 | F6: 158.18927 | G6: 156.80594
B7: Hafren Dyfrdwy | C7: 153.3421 | D7: 152.90231 | E7: 143.71325 | F7: 139.34219 | G7: 147.86296
B8: Northumbrian | C8: 104.91669 | D8: 94.889695 | E8: 95.464558 | F8: 92.774447 | G8: 86.784481
B9: Severn Trent | C9: 106.64575 | D9: 110.91313 | E9: 96.083988 | F9: 88.296696 | G9: 87.188374
B10: South West | C10: 83.624002 | D10: 102.69769 | E10: 107.72081 | F10: 97.448706 | G10: 102.18551
B11: Southern | C11: 88.606486 | D11: 101.4259 | E11: 96.087027 | F11: 86.782719 | G11: 76.41077
B12: Thames | C12: 148.06056 | D12: 152.17684 | E12: 140.6758 | F12: 140.03459 | G12: 138.33753
B13: United Utilities | C13: 120.65849 | D13: 122.98335 | E13: 117.94138 | F13: 118.07582 | G13: 112.85304
